BEGIN:VCALENDAR
VERSION:2.0
PRODID:-//ChitChat Company//NONSGML kigkonsult.se iCalcreator 2.41.92//
CALSCALE:GREGORIAN
METHOD:PUBLISH
UID:30623065-3165-4535-a139-316136353466
X-WR-CALNAME:iCagenda
X-WR-CALDESC:Event Management Extension for Joomla!
X-WR-RELCALID:3E26604A-50F4-4449-8B3E-E4F4932D05B5
X-WR-TIMEZONE:UTC
BEGIN:VTIMEZONE
TZID:UTC
END:VTIMEZONE
BEGIN:VEVENT
UID:34616466-3634-4635-a232-376439613763
DTSTAMP:20260419T135821Z
CATEGORIES:Sommerkonzert
CLASS:PUBLIC
DESCRIPTION;ALTREP="CID:<FFFF__=0ABBE548DFE235B58f9e8a93d@coffeebean.com>":
 Auch dieses Jahr sind wir wieder dabei und singen Auszüge aus unserem aktu
 ellen Sommerprogramm
DTSTART:20250921T140000Z
DTEND:20250921T180000Z
GEO:+52.056572;+8.563422
LOCATION:Obersee Bielefeld\, Nordseite\, östlich des Seekrugs
ORGANIZER:
SEQUENCE:1
SUMMARY:Radkultur Bielefeld 2025
TRANSP:OPAQUE
URL:https://kundenentwurf4.haertel-softweb.de/termine/10-radkultur-2025
END:VEVENT
END:VCALENDAR
