BEGIN:VCALENDAR
VERSION:2.0
PRODID:-//ChitChat Company//NONSGML kigkonsult.se iCalcreator 2.41.92//
CALSCALE:GREGORIAN
METHOD:PUBLISH
UID:32653865-6666-4130-a531-303633653138
X-WR-CALNAME:iCagenda
X-WR-CALDESC:Event Management Extension for Joomla!
X-WR-RELCALID:3E26604A-50F4-4449-8B3E-E4F4932D05B5
X-WR-TIMEZONE:UTC
BEGIN:VTIMEZONE
TZID:UTC
END:VTIMEZONE
BEGIN:VEVENT
UID:39626134-3237-4062-b966-663930393734
DTSTAMP:20260419T135638Z
CATEGORIES:Chor-Reise
CLASS:PUBLIC
DESCRIPTION;ALTREP="CID:<FFFF__=0ABBE548DFE235B58f9e8a93d@coffeebean.com>":
 Wir gehen wieder auf Tournee mit unserem befreundeten Chor Couleur Jazz au
 s St. Brieuc und bringen unser europäisches Gemeinschaftsprojekt JAZZ4EU a
 uf die Bühne
DTSTART:20251017T121900Z
DTEND:20251024T200000Z
GEO:00;0
LOCATION:
ORGANIZER:
SEQUENCE:1
SUMMARY:JAZZ4EU-Tournee in die Bretagne
TRANSP:OPAQUE
URL:https://kundenentwurf4.haertel-softweb.de/termine/11-chor-tournee-in-di
 e-bretagne
END:VEVENT
END:VCALENDAR
