BEGIN:VCALENDAR
VERSION:2.0
PRODID:-//ChitChat Company//NONSGML kigkonsult.se iCalcreator 2.41.92//
CALSCALE:GREGORIAN
METHOD:PUBLISH
UID:39383430-3330-4963-b161-356232366134
X-WR-CALNAME:iCagenda
X-WR-CALDESC:Event Management Extension for Joomla!
X-WR-RELCALID:3E26604A-50F4-4449-8B3E-E4F4932D05B5
X-WR-TIMEZONE:UTC
BEGIN:VTIMEZONE
TZID:UTC
END:VTIMEZONE
BEGIN:VEVENT
UID:61346637-3935-4535-b966-666263666566
DTSTAMP:20260419T140314Z
CATEGORIES:Weihnachtskonzert
CLASS:PUBLIC
DESCRIPTION;ALTREP="CID:<FFFF__=0ABBE548DFE235B58f9e8a93d@coffeebean.com>":
 Seit mehr als 20 Jahren gehören die Weihnachtskonzerte der Bielefelder Chi
 t Chat Company für viele ihrer Fans zur Weihnachtszeit dazu wie der Weihna
 chtsbaum.In bewährter Chit-Chat-Tradition reihen sich jedes Jahr wieder ne
 ue musikalische Leckerbissen in das vielfältige Programm mit ein. Der Repe
 rtoire-Sack ist gefüllt mit Tiefgründigem und Leichtem\, Besinnlichem und 
 Hoffnungsvollem\, mal berührend und dann wieder mit einem Augenzwinkern vo
 rgetragen.Vielstimmiger Chorgesang\, Instrumentaleinlagen und Soli\, Impro
 visationen und die bewährten Kleinchor-Juwelen versprechen einen berührend
 en Abendschmaus mit jazzigem Zuckerguss.\nVorverkauf: Tourist-Information 
 Bielefeld / Kulturöffner
DTSTART:20251214T170000Z
DTEND:20251214T170000Z
GEO:+52.031059;+8.524915
LOCATION:Johanniskirche Bielefeld\, Johanniskirchplatz 1\, 33615 Bielefeld
ORGANIZER:
SEQUENCE:1
SUMMARY:Weihnachtskonzert (3)
TRANSP:OPAQUE
URL:https://kundenentwurf4.haertel-softweb.de/termine/4-das-tor-zur-weihnac
 htszeit-3/2025-12-14-17-00
END:VEVENT
END:VCALENDAR
