BEGIN:VCALENDAR
VERSION:2.0
PRODID:-//ChitChat Company//NONSGML kigkonsult.se iCalcreator 2.41.92//
CALSCALE:GREGORIAN
METHOD:PUBLISH
UID:34313336-6432-4930-a136-393131386637
X-WR-CALNAME:iCagenda
X-WR-CALDESC:Event Management Extension for Joomla!
X-WR-RELCALID:3E26604A-50F4-4449-8B3E-E4F4932D05B5
X-WR-TIMEZONE:UTC
BEGIN:VTIMEZONE
TZID:UTC
END:VTIMEZONE
BEGIN:VEVENT
UID:64376635-3335-4430-b962-623138346536
DTSTAMP:20260419T140354Z
CATEGORIES:Weihnachtskonzert
CLASS:PUBLIC
DESCRIPTION;ALTREP="CID:<FFFF__=0ABBE548DFE235B58f9e8a93d@coffeebean.com>":
 Seit mehr als 20 Jahren gehören die Weihnachtskonzerte der Bielefelder Chi
 t Chat Company für viele ihrer Fans zur Weihnachtszeit dazu wie der Weihna
 chtsbaum.In bewährter Chit-Chat-Tradition reihen sich jedes Jahr wieder ne
 ue musikalische Leckerbissen in das vielfältige Programm mit ein. Der Repe
 rtoire-Sack ist gefüllt mit Tiefgründigem und Leichtem\, Besinnlichem und 
 Hoffnungsvollem\, mal berührend und dann wieder mit einem Augenzwinkern vo
 rgetragen.Vielstimmiger Chorgesang\, Instrumentaleinlagen und Soli\, Impro
 visationen und die bewährten Kleinchor-Juwelen versprechen einen berührend
 en Abendschmaus mit jazzigem Zuckerguss.\nVorverkauf: Buchhandlung Maschke
DTSTART:20251207T170000Z
DTEND:20251207T170000Z
GEO:+52.083263;+8.749514
LOCATION:Stadtkirche Bad Salzuflen\, Von-Stauffenberg-Straße 3\, 32105 Bad 
 Salzuflen
ORGANIZER:
SEQUENCE:1
SUMMARY:Weihnachtskonzert (1)
TRANSP:OPAQUE
URL:https://kundenentwurf4.haertel-softweb.de/termine/5-das-tor-zur-weihnac
 htszeit-1/2025-12-07-17-00
END:VEVENT
END:VCALENDAR
