BEGIN:VCALENDAR
VERSION:2.0
PRODID:-//ChitChat Company//NONSGML kigkonsult.se iCalcreator 2.41.92//
CALSCALE:GREGORIAN
METHOD:PUBLISH
UID:38383232-3531-4563-b466-616634663335
X-WR-CALNAME:iCagenda
X-WR-CALDESC:Event Management Extension for Joomla!
X-WR-RELCALID:3E26604A-50F4-4449-8B3E-E4F4932D05B5
X-WR-TIMEZONE:UTC
BEGIN:VTIMEZONE
TZID:UTC
END:VTIMEZONE
BEGIN:VEVENT
UID:34333932-3232-4532-a162-336163623038
DTSTAMP:20260419T135821Z
CATEGORIES:Krankenhauskonzert
CLASS:PUBLIC
DESCRIPTION;ALTREP="CID:<FFFF__=0ABBE548DFE235B58f9e8a93d@coffeebean.com>":
 Sehnsuchtsorte\nKonzert in der Kapelle des Johanniskrankenhauses Bielefeld
 \nAn diesem Nachmittag werden wir Teile aus unserem aktuellen Programm 'Se
 hnsuchtsorte' singen und wir hoffen damit einen kleinen Beitrag zur Genesu
 ng der Patienten leisten zu können.
DTSTART:20250323T160000Z
DTEND:20250323T160000Z
GEO:00;0
LOCATION:Ev. Krankenhaus Bielefeld im Johannesstift\, Kapelle\, Schildesche
 rstr. 99\, 33611 Bielefeld
ORGANIZER:
SEQUENCE:1
SUMMARY:Sehnsuchtsorte
TRANSP:OPAQUE
URL:https://kundenentwurf4.haertel-softweb.de/termine/6-konzert-im-krankenh
 aus-johannesstift/2025-03-23-16-00
END:VEVENT
END:VCALENDAR
