BEGIN:VCALENDAR
VERSION:2.0
PRODID:-//ChitChat Company//NONSGML kigkonsult.se iCalcreator 2.41.92//
CALSCALE:GREGORIAN
METHOD:PUBLISH
UID:66363333-3963-4435-b332-386230306132
X-WR-CALNAME:iCagenda
X-WR-CALDESC:Event Management Extension for Joomla!
X-WR-RELCALID:3E26604A-50F4-4449-8B3E-E4F4932D05B5
X-WR-TIMEZONE:UTC
BEGIN:VTIMEZONE
TZID:UTC
END:VTIMEZONE
BEGIN:VEVENT
UID:63333632-6433-4635-a232-633036653636
DTSTAMP:20260419T140543Z
CATEGORIES:3-Chöre-Konzert
CLASS:PUBLIC
DESCRIPTION:
DTSTART:20260712T180000Z
DTEND:20260712T200000Z
GEO:00;0
LOCATION:Johanniskirche Bielefeld
ORGANIZER:
SEQUENCE:1
SUMMARY:3-Chöre-Konzert
TRANSP:OPAQUE
URL:https://kundenentwurf4.haertel-softweb.de/termine/8-3-choere-konzert
END:VEVENT
END:VCALENDAR
