BEGIN:VCALENDAR
VERSION:2.0
PRODID:-//ChitChat Company//NONSGML kigkonsult.se iCalcreator 2.41.92//
CALSCALE:GREGORIAN
METHOD:PUBLISH
UID:38356566-3435-4430-b435-386233376430
X-WR-CALNAME:iCagenda
X-WR-CALDESC:Event Management Extension for Joomla!
X-WR-RELCALID:3E26604A-50F4-4449-8B3E-E4F4932D05B5
X-WR-TIMEZONE:UTC
BEGIN:VTIMEZONE
TZID:UTC
END:VTIMEZONE
BEGIN:VEVENT
UID:37363931-3338-4637-a463-666333313331
DTSTAMP:20260419T140307Z
CATEGORIES:Werkstattkonzert
CLASS:PUBLIC
DESCRIPTION:
DTSTART:20250825T190000Z
DTEND:20250825T200000Z
GEO:00;0
LOCATION:Schloßstraße 113\, 33824 Werther
ORGANIZER:
SEQUENCE:1
SUMMARY:Werkstattkonzert im Garten
TRANSP:OPAQUE
URL:https://kundenentwurf4.haertel-softweb.de/termine/9-werkstattkonzert
END:VEVENT
END:VCALENDAR
